BEGIN:VCALENDAR
VERSION:2.0
PRODID:-//NMTA Akron Chapter - ECPv6.15.20//NONSGML v1.0//EN
CALSCALE:GREGORIAN
METHOD:PUBLISH
X-ORIGINAL-URL:https://ntmaakron.org
X-WR-CALDESC:Events for NMTA Akron Chapter
REFRESH-INTERVAL;VALUE=DURATION:PT1H
X-Robots-Tag:noindex
X-PUBLISHED-TTL:PT1H
BEGIN:VTIMEZONE
TZID:America/Chicago
BEGIN:DAYLIGHT
TZOFFSETFROM:-0600
TZOFFSETTO:-0500
TZNAME:CDT
DTSTART:20220313T080000
END:DAYLIGHT
BEGIN:STANDARD
TZOFFSETFROM:-0500
TZOFFSETTO:-0600
TZNAME:CST
DTSTART:20221106T070000
END:STANDARD
BEGIN:DAYLIGHT
TZOFFSETFROM:-0600
TZOFFSETTO:-0500
TZNAME:CDT
DTSTART:20230312T080000
END:DAYLIGHT
BEGIN:STANDARD
TZOFFSETFROM:-0500
TZOFFSETTO:-0600
TZNAME:CST
DTSTART:20231105T070000
END:STANDARD
BEGIN:DAYLIGHT
TZOFFSETFROM:-0600
TZOFFSETTO:-0500
TZNAME:CDT
DTSTART:20240310T080000
END:DAYLIGHT
BEGIN:STANDARD
TZOFFSETFROM:-0500
TZOFFSETTO:-0600
TZNAME:CST
DTSTART:20241103T070000
END:STANDARD
END:VTIMEZONE
BEGIN:VEVENT
DTSTART;VALUE=DATE:20230125
DTEND;VALUE=DATE:20230128
DTSTAMP:20260421T091750
CREATED:20221216T153604Z
LAST-MODIFIED:20221216T193310Z
UID:4934-1674604800-1674863999@ntmaakron.org
SUMMARY:Chapter Leadership Summit 2023
DESCRIPTION:January 25-27th – Albuquerque\, NM \nAn exclusive event for NTMA Chapter Leadership\, CLS is all about maximizing NTMA membership at the local level. Learn ways to engage your chapter and build your regional coalition for stronger companies and a stronger industry. Don’t miss this opportunity to connect with your fellow NTMA Chapter leaders! \n\nPlease contact Kristen Hrusch\, our Events Manager\, for more information and to register:\nKristen Hrusch – khrusch@ntma.org 216-264-2845 or visit www.ntma.org/events
URL:https://ntmaakron.org/event/chapter-leadership-summit-2023/
LOCATION:OH
CATEGORIES:NTMA
ATTACH;FMTTYPE=image/jpeg:https://ntmaakron.org/wp-content/uploads/2022/12/NTMA-2023-Calendar-of-Events-1.jpg
END:VEVENT
END:VCALENDAR