BEGIN:VCALENDAR
VERSION:2.0
PRODID:-//NMTA Akron Chapter - ECPv6.15.20//NONSGML v1.0//EN
CALSCALE:GREGORIAN
METHOD:PUBLISH
X-WR-CALNAME:NMTA Akron Chapter
X-ORIGINAL-URL:https://ntmaakron.org
X-WR-CALDESC:Events for NMTA Akron Chapter
REFRESH-INTERVAL;VALUE=DURATION:PT1H
X-Robots-Tag:noindex
X-PUBLISHED-TTL:PT1H
BEGIN:VTIMEZONE
TZID:America/New_York
BEGIN:DAYLIGHT
TZOFFSETFROM:-0500
TZOFFSETTO:-0400
TZNAME:EDT
DTSTART:20220313T070000
END:DAYLIGHT
BEGIN:STANDARD
TZOFFSETFROM:-0400
TZOFFSETTO:-0500
TZNAME:EST
DTSTART:20221106T060000
END:STANDARD
BEGIN:DAYLIGHT
TZOFFSETFROM:-0500
TZOFFSETTO:-0400
TZNAME:EDT
DTSTART:20230312T070000
END:DAYLIGHT
BEGIN:STANDARD
TZOFFSETFROM:-0400
TZOFFSETTO:-0500
TZNAME:EST
DTSTART:20231105T060000
END:STANDARD
BEGIN:DAYLIGHT
TZOFFSETFROM:-0500
TZOFFSETTO:-0400
TZNAME:EDT
DTSTART:20240310T070000
END:DAYLIGHT
BEGIN:STANDARD
TZOFFSETFROM:-0400
TZOFFSETTO:-0500
TZNAME:EST
DTSTART:20241103T060000
END:STANDARD
END:VTIMEZONE
BEGIN:VEVENT
DTSTART;TZID=America/New_York:20231025T160000
DTEND;TZID=America/New_York:20231025T190000
DTSTAMP:20260420T192356
CREATED:20230717T141400Z
LAST-MODIFIED:20230717T141400Z
UID:5341-1698249600-1698260400@ntmaakron.org
SUMMARY:Steel & Beer! Tour\, Presentation & Networking
DESCRIPTION:Join the Akron NTMA Chapter as we come together for a tour and presentation at Akron Steel Treating Company\, and networking at Thirsty Dog. \nRegister Online \nArrival \n4pm – 4:30pm \nPresentation: Heat Treating for the Non-Heat Treater \n4:30pm – 5:15pm \nTour of Akron Steel Treating Co. \n5:30pm – 6:30pm \nNetworking & Happy Hour at The Thirsty Dog Brewing Co (2 mins down the street) \nJoin the Akron NTMA Chapter as we come together for a tour and presentation at Akron Steel Treating Company\, and networking at Thirsty Dog. You’ll tour their facility\, hear about how they use creative problem-solving in heat treating\, and metallurgical solutions. \nYou’ll see how they use heat-treating processes (air\, endothermic\, salt\, and vacuum) to ensure high quality heat treating. Akron Steel Treating is certified in: ISO 9001:2015\,NADCAP\, Federal Firearms Manufacturer’s License (FFL) with ITAR registration. \nPresentation: Heat Treating for the Non-Heat Treater \nThis high-level presentation will help demystify the world of heat treating. Whether you are in purchasing\, production\, or even a presidency role; this presentation has something for everyone. You’ll get an inside look at what a project sees from quoting all the way through quality control and gives you an insight on how to better prepare for your outside processing\, heat treating needs. \nRegister Online
URL:https://ntmaakron.org/event/steel-beer-tour-presentation-networking/
LOCATION:Akron Steel Treating Company\, 336 Morgan Avenue\, Akron\, OH\, 44311\, United States
CATEGORIES:Education,Networking
ATTACH;FMTTYPE=image/png:https://ntmaakron.org/wp-content/uploads/2023/07/Akron-Steel-Treating-1025.png
END:VEVENT
END:VCALENDAR