BEGIN:VCALENDAR
VERSION:2.0
PRODID:-//NMTA Akron Chapter - ECPv6.15.20//NONSGML v1.0//EN
CALSCALE:GREGORIAN
METHOD:PUBLISH
X-ORIGINAL-URL:https://ntmaakron.org
X-WR-CALDESC:Events for NMTA Akron Chapter
REFRESH-INTERVAL;VALUE=DURATION:PT1H
X-Robots-Tag:noindex
X-PUBLISHED-TTL:PT1H
BEGIN:VTIMEZONE
TZID:America/New_York
BEGIN:DAYLIGHT
TZOFFSETFROM:-0500
TZOFFSETTO:-0400
TZNAME:EDT
DTSTART:20220313T070000
END:DAYLIGHT
BEGIN:STANDARD
TZOFFSETFROM:-0400
TZOFFSETTO:-0500
TZNAME:EST
DTSTART:20221106T060000
END:STANDARD
BEGIN:DAYLIGHT
TZOFFSETFROM:-0500
TZOFFSETTO:-0400
TZNAME:EDT
DTSTART:20230312T070000
END:DAYLIGHT
BEGIN:STANDARD
TZOFFSETFROM:-0400
TZOFFSETTO:-0500
TZNAME:EST
DTSTART:20231105T060000
END:STANDARD
BEGIN:DAYLIGHT
TZOFFSETFROM:-0500
TZOFFSETTO:-0400
TZNAME:EDT
DTSTART:20240310T070000
END:DAYLIGHT
BEGIN:STANDARD
TZOFFSETFROM:-0400
TZOFFSETTO:-0500
TZNAME:EST
DTSTART:20241103T060000
END:STANDARD
END:VTIMEZONE
BEGIN:VEVENT
DTSTART;TZID=America/New_York:20231113T170000
DTEND;TZID=America/New_York:20231113T193000
DTSTAMP:20260420T175446
CREATED:20231005T160633Z
LAST-MODIFIED:20231010T195113Z
UID:5387-1699894800-1699903800@ntmaakron.org
SUMMARY:The Fed's Hat Trick: Do You Believe in Miracles? With The Earnings Scout
DESCRIPTION:Jerome Powell\, the Fed chairman\, faced a daunting challenge: defeating inflation\, avoiding a recession\, and giving market bulls interest rate cuts. It seemed like an impossible task. But can he really pull it off? \nJoin Nick Raich as he reviews the macroeconomic trends of the past year and reveals how changes in earnings expectations have fueled the stock market rally in 2023. But the question remains: can this economy and market really be sustained? \nAgenda\n5:00pm: Networking & Drinks \n5:30pm: Heavy apps served \n6:00pm – 6:45pm: Presentation \n6:45pm – 7:30pm: Networking \nJerome Powell\, the Fed chairman\, faced a daunting challenge: defeating inflation\, avoiding a recession\, and giving market bulls interest rate cuts. It seemed like an impossible task. But can he really pull it off? \nJoin Nick Raich as he reviews the macroeconomic trends of the past year and reveals how changes in earnings expectations have fueled the stock market rally in 2023. But the question remains: can this economy and market really be sustained? \nAbout the Speaker\nNick Raich is the CEO and Co-Founder of The Earnings Scout\, an independent macro-economic research firm that specializes in earnings trends. He is widely recognized as a leading expert on corporate profits and makes frequent appearances on CNBC\, Bloomberg TV\, as well as The Wall Street Journal\, Financial Times and The New York Times. \nRaich has a BS in Finance and an MBA from Youngstown State University. He is a member of the Forbes Investment Panel\, Lariccia School of Accounting and Finance Advisory Council at Youngstown State and is a Chartered Financial Analyst®. \nRegister on EventBrite \nDownload the Flyer
URL:https://ntmaakron.org/event/the-feds-hat-trick-do-you-believe-in-miracles-with-the-earnings-scout/
LOCATION:Holiday Inn Cleveland-S Independence\, an IHG Hotel\, 6001 Rockside Road\, Independence\, OH\, 44131\, United States
CATEGORIES:Education
ATTACH;FMTTYPE=image/png:https://ntmaakron.org/wp-content/uploads/2023/10/LI-Akron-Economist-11-13-2023-1.png
END:VEVENT
END:VCALENDAR