BEGIN:VCALENDAR
VERSION:2.0
PRODID:-//NMTA Akron Chapter - ECPv6.15.20//NONSGML v1.0//EN
CALSCALE:GREGORIAN
METHOD:PUBLISH
X-ORIGINAL-URL:https://ntmaakron.org
X-WR-CALDESC:Events for NMTA Akron Chapter
REFRESH-INTERVAL;VALUE=DURATION:PT1H
X-Robots-Tag:noindex
X-PUBLISHED-TTL:PT1H
BEGIN:VTIMEZONE
TZID:America/New_York
BEGIN:DAYLIGHT
TZOFFSETFROM:-0500
TZOFFSETTO:-0400
TZNAME:EDT
DTSTART:20250309T070000
END:DAYLIGHT
BEGIN:STANDARD
TZOFFSETFROM:-0400
TZOFFSETTO:-0500
TZNAME:EST
DTSTART:20251102T060000
END:STANDARD
BEGIN:DAYLIGHT
TZOFFSETFROM:-0500
TZOFFSETTO:-0400
TZNAME:EDT
DTSTART:20260308T070000
END:DAYLIGHT
BEGIN:STANDARD
TZOFFSETFROM:-0400
TZOFFSETTO:-0500
TZNAME:EST
DTSTART:20261101T060000
END:STANDARD
BEGIN:DAYLIGHT
TZOFFSETFROM:-0500
TZOFFSETTO:-0400
TZNAME:EDT
DTSTART:20270314T070000
END:DAYLIGHT
BEGIN:STANDARD
TZOFFSETFROM:-0400
TZOFFSETTO:-0500
TZNAME:EST
DTSTART:20271107T060000
END:STANDARD
END:VTIMEZONE
BEGIN:VEVENT
DTSTART;TZID=America/New_York:20260507T130000
DTEND;TZID=America/New_York:20260507T190000
DTSTAMP:20260420T033540
CREATED:20260325T191814Z
LAST-MODIFIED:20260417T214617Z
UID:5936-1778158800-1778180400@ntmaakron.org
SUMMARY:Automation to Additive: Akron Manufacturing Tour
DESCRIPTION:A multi-shop tour focused on complex machining\, automation\, and additive capabilities.\nThursday\, May 7\, 20261:00 PM – 7:00 PM\n(12:30 Registration. Bus leaves at 1pm)\nKickoff & Networking Location:Missing Falls Brewery – In the taproom (not the private room)\, 540 S Main St\, Akron\, OH 44311 \nPrice: $45pp (Manufacturers and Industry Partners Only)Limited to 35 people. \nThe event includes: \n\nTransportation to all three facilities\nGuided shop tours\nHeavy appetizers and drinks\nNetworking with manufacturers and industry partners\n\nJoin the Akron NTMA for an exclusive Multi-Shop Manufacturing Tour showcasing innovation across three distinct areas of modern machining. This one-day experience offers a behind-the-scenes look at leading manufacturers specializing in automation\, complex machining\, and additive manufacturing. \nAttendees will travel together by charter bus to visit each facility\, gaining insight into different production environments\, technologies\, and capabilities shaping today’s manufacturing landscape. The tour concludes with networking\, food\, and drinks at Missing Falls Brewery—providing a relaxed setting to connect with peers and continue the conversation. Limited to 35 people – Due to the limited space\, we are looking for 3 sponsors – 1 at each level. \nTour Stops\nMomentous Mold & MachineSee how a mid-sized shop is taking on some of the most complex work in aerospace and defense. Momentous Mold & Machine produces high-precision tooling and assemblies for space-launch\, rotor blade\, and advanced aircraft programs\, where failure is not an option. This stop offers a look at how they manage large\, complex parts\, specialized materials\, and evolving capabilities—bridging traditional machining with additive manufacturing through their partnership with AES. Download the Momentous Mold and Machine Linecard. \nUltra TechUltra Tech is an OEM specializing in designing and integrating custom automation solutions for job shops and manufacturers. As a Level 4 Fanuc Integrator\, their capabilities include collaborative and industrial machine tending\, deburring\, inspection\, cleaning\, assembly applications\, and more\, as well as fully turnkey automation solutions built and tested in-house. Ultra Tech also designs and builds custom and special-purpose machines tailored to unique production needs and provides rebuild and retrofit services to modernize existing equipment and extend machine life. View the ultra tech Cobot photo. \nAdvanced Engineering Solutions (AES)AES brings a forward-looking perspective with its focus on additive manufacturing and 3D printing technologies to the traditional world of composite tooling. Their capabilities highlight how manufacturers are leveraging new processes to accelerate tooling timelines—while integrating traditional machining with next-generation production techniques. Download the AES Capabilities Presentation. \nAttendance InformationTours are limited to 35 participants and are open to: \n\nManufacturers (members and non-members)\nAkron NTMA Industry Partners\n\nPlease note:\n\nLimit of 2 attendees per company\nAll participants are subject to approval by host facilities\nCertain restrictions may apply (U.S. persons only\, no photography\, etc.)\nFull refunds will be issued if registration is declined\n\nSponsor Sheet \nRegister Today
URL:https://ntmaakron.org/event/automation-to-additive-akron-manufacturing-tour/
LOCATION:Missing Falls Brewery\, 540 S Main St\, Akron\, OH\, 44311\, United States
ATTACH;FMTTYPE=image/jpeg:https://ntmaakron.org/wp-content/uploads/2026/03/Automation-to-Additive-Akron-Manufacturing-Tour.jpg
END:VEVENT
END:VCALENDAR